BEGIN:VCALENDAR
VERSION:2.0
PRODID:-//www.3047.ch//NONSGML kigkonsult.se iCalcreator 2.22//
CALSCALE:GREGORIAN
METHOD:PUBLISH
X-WR-TIMEZONE','EUROPE/BERLIN:
BEGIN:VEVENT
UID:20260425T142445CEST-3351HPwuv2@www.3047.ch
DTSTAMP:20260425T122445Z
DESCRIPTION:Klicken Sie auf den folgenden Link\, um weitere Informationen z
 ur Veranstaltung zu erhalten:\nhttp://www.3047.ch/de/veranstaltungen/detai
 l/detail.php?i=284
DTSTART:20260429T180000
DTEND:20260429T200000
LOCATION:Sportplatz
SUMMARY:Pétanque - Spielabende
END:VEVENT
END:VCALENDAR
